BEGIN:VCALENDAR
VERSION:2.0
PRODID:icalendar-ruby
CALSCALE:GREGORIAN
METHOD:PUBLISH
BEGIN:VEVENT
DTSTAMP:20260423T074825Z
UID:65e4336d-1417-4c17-8510-9e7cf14a9968
DTSTART:20221112T060000
DTEND:20221112T180000
DESCRIPTION:<p>The Sanlam Cape Town Marathon is Africa's first Abbott World
  Marathon Majors Candidate. This global city\, fast-paced\, flat circuit r
 oute is a marathon open to a range of running enthusiasts\, from elite ath
 letes to social runners.</p><p><br></p><p>This running festival weekend in
 cludes the <a href="https://capetownmarathon.com/marathon/" target="_blan
 k" style="color: rgb(17\, 85\, 204)\;">Gold Label status road marathon</a>
 \, the 10km and 5km Peace road runs as well as two incredible Table Mounta
 in Trail runs - <a href="https://capetownmarathon.com/events/" target="_b
 lank" style="color: rgb(17\, 85\, 204)\;">46km and 22km</a>. Visit <a hre
 f="http://www.capetownmarathon.com/" target="_blank" style="color: rgb(17\
 , 85\, 204)\;">www.capetownmarathon.com</a> for more information on the e
 vents\, the routes to plan your next great event.</p><p>Africa is our home
 . This is our race.</p><p><span style="color: rgb(64\, 77\, 87)\; backgrou
 nd-color: rgb(245\, 245\, 245)\;">View our travel packages and experiences
  </span><a href="https://capetownmarathon.com/international-travel-packag
 es/" target="_blank" style="color: rgb(17\, 85\, 204)\;">here.</a></p><p><
 br></p><p><br></p>
LOCATION:Cape Town\, Western Cape
SUMMARY:Sanlam Cape Town Marathon 2022
URL;VALUE=URI:https://capetownmarathon.howler.co.za/SanlamCTM2022
END:VEVENT
END:VCALENDAR
